View In:
ArcGIS JavaScript
ArcGIS Online Map Viewer
ArcGIS Earth
ArcMap
View Footprint In:
ArcGIS Online Map Viewer
Service Description: KentCo_Ortho_2018_New
Name: KentCo_Ortho_2018_New
Description:
Single Fused Map Cache: true
Tile Info:
- Height: 256
- Width: 256
- DPI: 96
-
Levels of Detail: 24
-
Level ID: 0
[ Start Tile, End Tile ]
- Resolution: 939543.3767213027
- Scale: 1.0823539699829407E9
-
Level ID: 1
[ Start Tile, End Tile ]
- Resolution: 469771.6883606514
- Scale: 5.411769849914703E8
-
Level ID: 2
[ Start Tile, End Tile ]
- Resolution: 234885.8441803257
- Scale: 2.7058849249573517E8
-
Level ID: 3
[ Start Tile, End Tile ]
- Resolution: 117442.92209016284
- Scale: 1.3529424624786758E8
-
Level ID: 4
[ Start Tile, End Tile ]
- Resolution: 58721.46104508142
- Scale: 6.764712312393379E7
-
Level ID: 5
[ Start Tile, End Tile ]
- Resolution: 29360.73052254071
- Scale: 3.3823561561966896E7
-
Level ID: 6
[ Start Tile, End Tile ]
- Resolution: 14680.365261270355
- Scale: 1.6911780780983448E7
-
Level ID: 7
[ Start Tile, End Tile ]
- Resolution: 7340.182630635178
- Scale: 8455890.390491724
-
Level ID: 8
[ Start Tile, End Tile ]
- Resolution: 3670.091315317589
- Scale: 4227945.195245862
-
Level ID: 9
[ Start Tile, End Tile ]
- Resolution: 1835.0456576587944
- Scale: 2113972.597622931
-
Level ID: 10
[ Start Tile, End Tile ]
- Resolution: 917.5228288293972
- Scale: 1056986.2988114655
-
Level ID: 11
[ Start Tile, End Tile ]
- Resolution: 458.7614144146986
- Scale: 528493.1494057328
-
Level ID: 12
[ Start Tile, End Tile ]
- Resolution: 229.3807072073493
- Scale: 264246.5747028664
-
Level ID: 13
[ Start Tile, End Tile ]
- Resolution: 114.69035360367465
- Scale: 132123.2873514332
-
Level ID: 14
[ Start Tile, End Tile ]
- Resolution: 57.345176801837326
- Scale: 66061.6436757166
-
Level ID: 15
[ Start Tile, End Tile ]
- Resolution: 28.672588400918663
- Scale: 33030.8218378583
-
Level ID: 16
[ Start Tile, End Tile ]
- Resolution: 14.336294200459331
- Scale: 16515.41091892915
-
Level ID: 17
[ Start Tile, End Tile ]
- Resolution: 7.168147100229666
- Scale: 8257.705459464574
-
Level ID: 18
[ Start Tile, End Tile ]
- Resolution: 3.584073550114833
- Scale: 4128.852729732287
-
Level ID: 19
[ Start Tile, End Tile ]
- Resolution: 1.7920367750574164
- Scale: 2064.4263648661436
-
Level ID: 20
[ Start Tile, End Tile ]
- Resolution: 0.8960183875287082
- Scale: 1032.2131824330718
-
Level ID: 21
[ Start Tile, End Tile ]
- Resolution: 0.4480091937643541
- Scale: 516.1065912165359
-
Level ID: 22
[ Start Tile, End Tile ]
- Resolution: 0.22400459688217705
- Scale: 258.05329560826794
-
Level ID: 23
[ Start Tile, End Tile ]
- Resolution: 0.11200229844108853
- Scale: 129.02664780413397
- Format: MIXED
- Compression Quality: 75.0
- LERC Error: NaN
- Origin: X: -1.0713819264027426E8
Y: 1.1550296244102809E8
- Spatial Reference: 2253
(2253)
Storage Info:
- Storage Format: esriMapCacheStorageModeCompactV2
- Packet Size: 128
Extent:
XMin: 1.2742499859725505E7
YMin: 462500.0060055256
XMax: 1.2872499859725505E7
YMax: 657500.0060055256
Spatial Reference: 2253
(2253)
Initial Extent:
XMin: 1.2742499859725505E7
YMin: 462500.0060055256
XMax: 1.2872499859725505E7
YMax: 657500.0060055256
Spatial Reference: 2253
(2253)
Full Extent:
XMin: 1.2742499859725505E7
YMin: 462500.0060055256
XMax: 1.2872499859725505E7
YMax: 657500.0060055256
Spatial Reference: 2253
(2253)
Pixel Size X: 0.5
Pixel Size Y: 0.5
Band Count: 4
Pixel Type: U8
RasterFunction Infos: {"rasterFunctionInfos": [{
"name": "None",
"description": "",
"help": ""
}]}
Mensuration Capabilities: Basic
Has Histograms: true
Has Colormap: false
Has Multi Dimensions : false
Rendering Rule:
Min Scale: 1.0823539699829407E9
Max Scale: 129.02664780413397
Min LOD: 22
Max LOD: 22
Copyright Text:
Service Data Type: esriImageServiceDataTypeGeneric
Min Values: 0, 0, 0, 0
Max Values: 255, 255, 255, 255
Mean Values: 119.84822963420119, 116.57295338989152, 108.79292785384287, 121.22396981342702
Standard Deviation Values: 43.771258293555974, 42.170046857298864, 43.989822702817605, 51.11845526748359
Object ID Field:
Fields:
None
Default Mosaic Method: Center
Allowed Mosaic Methods:
SortField:
SortValue: null
Mosaic Operator: First
Default Compression Quality: 75
Default Resampling Method: Bilinear
Max Record Count: null
Max Image Height: 4100
Max Image Width: 15000
Max Download Image Count: null
Max Mosaic Image Count: null
Allow Raster Function: true
Allow Copy: true
Allow Analysis: true
Allow Compute TiePoints: false
Supports Statistics: false
Supports Advanced Queries: false
Use StandardizedQueries: true
Raster Type Infos:
Name: Raster Dataset
Description: Supports all ArcGIS Raster Datasets
Help:
Has Raster Attribute Table: false
Edit Fields Info: null
Ownership Based AccessControl For Rasters: null
Child Resources:
Info
Histograms
Statistics
Key Properties
Legend
Raster Function Infos
Supported Operations:
Export Image
Identify
Measure
Compute Histograms
Compute Statistics Histograms
Get Samples
Compute Class Statistics
Query Boundary
Compute Pixel Location
Compute Angles
Validate
Project