{
 "currentVersion": 10.91,
 "serviceDescription": "KentCo_Ortho_2018_New",
 "name": "KentCo_Ortho_2018_New",
 "description": "",
 "extent": {
  "xmin": 1.2742499859725505E7,
  "ymin": 462500.0060055256,
  "xmax": 1.2872499859725505E7,
  "ymax": 657500.0060055256,
  "spatialReference": {
   "wkid": 2253,
   "latestWkid": 2253
  }
 },
 "initialExtent": {
  "xmin": 1.2742499859725505E7,
  "ymin": 462500.0060055256,
  "xmax": 1.2872499859725505E7,
  "ymax": 657500.0060055256,
  "spatialReference": {
   "wkid": 2253,
   "latestWkid": 2253
  }
 },
 "fullExtent": {
  "xmin": 1.2742499859725505E7,
  "ymin": 462500.0060055256,
  "xmax": 1.2872499859725505E7,
  "ymax": 657500.0060055256,
  "spatialReference": {
   "wkid": 2253,
   "latestWkid": 2253
  }
 },
 "hasMultidimensions": false,
 "pixelSizeX": 0.5,
 "pixelSizeY": 0.5,
 "datasetFormat": "SDR",
 "uncompressedSize": 405600000000,
 "blockWidth": 128,
 "blockHeight": 128,
 "compressionType": "JPEG",
 "bandNames": [
  "Band_1",
  "Band_2",
  "Band_3",
  "Band_4"
 ],
 "allowCopy": true,
 "allowAnalysis": true,
 "bandCount": 4,
 "pixelType": "U8",
 "minPixelSize": 0.11200229844108853,
 "maxPixelSize": 939543.3767213027,
 "copyrightText": "",
 "serviceDataType": "esriImageServiceDataTypeGeneric",
 "serviceSourceType": "esriImageServiceSourceTypeDataset",
 "minValues": [
  0,
  0,
  0,
  0
 ],
 "maxValues": [
  255,
  255,
  255,
  255
 ],
 "meanValues": [
  119.84822963420119,
  116.57295338989152,
  108.79292785384287,
  121.22396981342702
 ],
 "stdvValues": [
  43.771258293555974,
  42.170046857298864,
  43.989822702817605,
  51.11845526748359
 ],
 "objectIdField": "",
 "fields": [],
 "capabilities": "Image,Metadata,Mensuration",
 "defaultMosaicMethod": "Center",
 "allowedMosaicMethods": "",
 "sortField": "",
 "sortValue": null,
 "sortAscending": true,
 "mosaicOperator": "First",
 "defaultCompressionQuality": 75,
 "defaultResamplingMethod": "Bilinear",
 "maxImageHeight": 4100,
 "maxImageWidth": 15000,
 "singleFusedMapCache": true,
 "tileInfo": {
  "rows": 256,
  "cols": 256,
  "dpi": 96,
  "format": "MIXED",
  "compressionQuality": 75,
  "origin": {
   "x": -1.0713819264027426E8,
   "y": 1.1550296244102809E8
  },
  "spatialReference": {
   "wkid": 2253,
   "latestWkid": 2253
  },
  "lods": [
   {
    "level": 0,
    "resolution": 939543.3767213027,
    "scale": 1.0823539699829407E9
   },
   {
    "level": 1,
    "resolution": 469771.6883606514,
    "scale": 5.411769849914703E8
   },
   {
    "level": 2,
    "resolution": 234885.8441803257,
    "scale": 2.7058849249573517E8
   },
   {
    "level": 3,
    "resolution": 117442.92209016284,
    "scale": 1.3529424624786758E8
   },
   {
    "level": 4,
    "resolution": 58721.46104508142,
    "scale": 6.764712312393379E7
   },
   {
    "level": 5,
    "resolution": 29360.73052254071,
    "scale": 3.3823561561966896E7
   },
   {
    "level": 6,
    "resolution": 14680.365261270355,
    "scale": 1.6911780780983448E7
   },
   {
    "level": 7,
    "resolution": 7340.182630635178,
    "scale": 8455890.390491724
   },
   {
    "level": 8,
    "resolution": 3670.091315317589,
    "scale": 4227945.195245862
   },
   {
    "level": 9,
    "resolution": 1835.0456576587944,
    "scale": 2113972.597622931
   },
   {
    "level": 10,
    "resolution": 917.5228288293972,
    "scale": 1056986.2988114655
   },
   {
    "level": 11,
    "resolution": 458.7614144146986,
    "scale": 528493.1494057328
   },
   {
    "level": 12,
    "resolution": 229.3807072073493,
    "scale": 264246.5747028664
   },
   {
    "level": 13,
    "resolution": 114.69035360367465,
    "scale": 132123.2873514332
   },
   {
    "level": 14,
    "resolution": 57.345176801837326,
    "scale": 66061.6436757166
   },
   {
    "level": 15,
    "resolution": 28.672588400918663,
    "scale": 33030.8218378583
   },
   {
    "level": 16,
    "resolution": 14.336294200459331,
    "scale": 16515.41091892915
   },
   {
    "level": 17,
    "resolution": 7.168147100229666,
    "scale": 8257.705459464574
   },
   {
    "level": 18,
    "resolution": 3.584073550114833,
    "scale": 4128.852729732287
   },
   {
    "level": 19,
    "resolution": 1.7920367750574164,
    "scale": 2064.4263648661436
   },
   {
    "level": 20,
    "resolution": 0.8960183875287082,
    "scale": 1032.2131824330718
   },
   {
    "level": 21,
    "resolution": 0.4480091937643541,
    "scale": 516.1065912165359
   },
   {
    "level": 22,
    "resolution": 0.22400459688217705,
    "scale": 258.05329560826794
   },
   {
    "level": 23,
    "resolution": 0.11200229844108853,
    "scale": 129.02664780413397
   }
  ]
 },
 "storageInfo": {
  "storageFormat": "esriMapCacheStorageModeCompactV2",
  "packetSize": 128
 },
 "cacheType": "Map",
 "allowRasterFunction": true,
 "rasterFunctionInfos": [
  {
   "name": "None",
   "description": "",
   "help": ""
  }
 ],
 "rasterTypeInfos": [
  {
   "name": "Raster Dataset",
   "description": "Supports all ArcGIS Raster Datasets",
   "help": ""
  }
 ],
 "mensurationCapabilities": "Basic",
 "hasHistograms": true,
 "hasColormap": false,
 "hasRasterAttributeTable": false,
 "minScale": 1.0823539699829407E9,
 "maxScale": 129.02664780413397,
 "minLOD": 22,
 "maxLOD": 22,
 "exportTilesAllowed": false,
 "supportsStatistics": false,
 "supportsAdvancedQueries": false,
 "editFieldsInfo": null,
 "ownershipBasedAccessControlForRasters": null,
 "allowComputeTiePoints": false,
 "useStandardizedQueries": true,
 "advancedQueryCapabilities": {
  "useStandardizedQueries": true,
  "supportsStatistics": false,
  "supportsOrderBy": false,
  "supportsDistinct": false,
  "supportsPagination": false
 },
 "spatialReference": {
  "wkid": 2253,
  "latestWkid": 2253
 }
}
